BEGIN:VCALENDAR
VERSION:2.0
PRODID:-//88.99.161.204//NONSGML kigkonsult.se iCalcreator 2.41.92//
CALSCALE:GREGORIAN
METHOD:PUBLISH
UID:39326231-3161-4433-b334-646535626238
X-WR-TIMEZONE:Europe/Berlin
BEGIN:VEVENT
UID:64616330-6163-4866-a633-643932653262
DTSTAMP:20260425T111607Z
DESCRIPTION:Der DiWiSH Networking Summit zum Thema Digitale Kreativität prä
 sentiert spannende Pitches\, eine inspirierende Keynote\, viel Raum für de
 n Austausch und natürlich ein lockeres Abendprogramm mit Musik und Getränk
 en. Das Ziel ist eine intensivere Vernetzung von Mitgliedern\, Ehrenamtler
 n\, Clustermanagement\, Wissenschaft und Politik sowie relevanten Branchen
 vertretern.\nOrt: KielTeilnahme: nur für DiWiSH-Mitglieder\, Anmeldung erf
 orderlich
DTSTART:20180914T160000
DTEND:20180914T220000
LOCATION:Kiel
SUMMARY:DiWiSH Networking Summit
END:VEVENT
END:VCALENDAR
