BEGIN:VCALENDAR
VERSION:2.0
PRODID:-//88.99.161.204//NONSGML kigkonsult.se iCalcreator 2.41.92//
CALSCALE:GREGORIAN
METHOD:PUBLISH
UID:34376631-3664-4561-b639-393131366166
X-WR-TIMEZONE:Europe/Berlin
BEGIN:VEVENT
UID:32356433-3732-4132-a231-633039313331
DTSTAMP:20260421T030604Z
DESCRIPTION:Cybersecurity ist längst kein neues Thema mehr. Die Bedrohungen
  durch Cyber-Kriminialität steigen und auch der Mittelstand muss mit diese
 n neuen Herausforderungen umgehen. DiWiSH-Mitglied 40° GmbH - Labor für In
 novation führt mit dem Referent Frederik Bernard in die Risiken heutiger v
 ernetzter und verteilter Systeme ein\, ohne zu technisch zu werden. Es geh
 t um Prävention\, Schulung der Mitarbeitenden sowie den Aufbau eines fundi
 erten Krisenmanagements.
DTSTART:20200825T180000
DTEND:20200825T193000
LOCATION:Eckernförde
SUMMARY:Cybersecurity – wie sich Mittelständler auf die neue Bedrohung eins
 tellen müssen und was im Ernstfall zu tun ist
END:VEVENT
END:VCALENDAR
