BEGIN:VCALENDAR
VERSION:2.0
PRODID:-//88.99.161.204//NONSGML kigkonsult.se iCalcreator 2.41.92//
CALSCALE:GREGORIAN
METHOD:PUBLISH
UID:36326262-6630-4338-b663-346239386564
X-WR-TIMEZONE:Europe/Berlin
BEGIN:VEVENT
UID:32623037-3933-4833-b732-333739353763
DTSTAMP:20260422T120823Z
DESCRIPTION:Künstliche Intelligenz findet zunehmend Einzug in unternehmeris
 che Tätigkeiten. Gemeinsam mit der WTSH und dem DiWiSH werden Ihnen daher 
 konkrete KI-Anwendungen aus unterschiedlichen Einsatzfeldern und Wege aufg
 ezeigt\, wie KI in Ihrem Unternehmen Nutzen stiften kann. Erhalten Sie übe
 r Vorträge und Diskussionen Einblicke in das hochaktuelle Thema und entwic
 keln Sie in einem der sechs Workshops gemeinsam mit erfahrenen KI-Experten
  erste Ideen für eigene Projekte. Auch wird es die Möglichkeit geben\, mit
  den Innovations- und Förderberatern der WTSH und DiWiSH individuelle Frag
 en in Einzelngesprächen vor Ort zu erörtern.
DTSTART:20200903T140000
DTEND:20200903T180000
LOCATION:Lübeck
SUMMARY:KI - aber konkret! Künstliche Intelligenz in der Praxis
END:VEVENT
END:VCALENDAR
