BEGIN:VCALENDAR
VERSION:2.0
PRODID:-//88.99.161.204//NONSGML kigkonsult.se iCalcreator 2.41.92//
CALSCALE:GREGORIAN
METHOD:PUBLISH
UID:31663033-3438-4632-b636-616432336638
X-WR-TIMEZONE:Europe/Berlin
BEGIN:VEVENT
UID:31643932-6363-4234-b462-356430356434
DTSTAMP:20260423T212338Z
DESCRIPTION:Sie kennen das bestimmt: Händische Abläufe\, die Zeit und Nerve
 n kosten\, sind immer noch Arbeitsalltag. Wann haben Sie sich das letzte M
 al über händische Ablagen\, Hin- und Her-Schicken von Exceldateien und imm
 er wieder gleiche und manuelle Arbeitsabläufe geärgert? Diese Sessions sin
 d in erster Linie für Mittelstandsentscheider geeignet und werden über Mic
 rosoft Teams stattfinden. Aufgrund der stark limitierten Teilnehmerzahl ka
 nn aus jedem Unternehmen nur maximal eine Person registriert werden.
DTSTART:20210127T100000
DTEND:20210128T113000
LOCATION:Online
SUMMARY:Interaktiver Workshop: Eine Reise zu einem digitalen Workflow
END:VEVENT
END:VCALENDAR
