BEGIN:VCALENDAR
VERSION:2.0
PRODID:-//88.99.161.204//NONSGML kigkonsult.se iCalcreator 2.41.92//
CALSCALE:GREGORIAN
METHOD:PUBLISH
UID:35323737-3933-4064-a131-326562386338
X-WR-TIMEZONE:Europe/Berlin
BEGIN:VEVENT
UID:64643238-6463-4539-a335-653162613636
DTSTAMP:20260421T205535Z
DESCRIPTION:Der SmartRailConnectivity Campus in Annaberg-Buchholz (Sachsen)
  organisiert vom 7. – 10. September 21 die Digital rail convention 2021. D
 as Enterprise Europe Network begleitet die Konferenz am 8. September mit e
 iner internationalen Kooperationsbörse\, der B2B@DigitalRailConvention2021
 .
DTSTART:20210908T093000
DTEND:20210908T180000
LOCATION:Online
SUMMARY:Internationale Kooperationsbörse im Rahmen der Digital rail convent
 ion 2021
END:VEVENT
END:VCALENDAR
