BEGIN:VCALENDAR
VERSION:2.0
PRODID:-//88.99.161.204//NONSGML kigkonsult.se iCalcreator 2.41.92//
CALSCALE:GREGORIAN
METHOD:PUBLISH
UID:36643831-3064-4137-a335-316332376433
X-WR-TIMEZONE:Europe/Berlin
BEGIN:VEVENT
UID:36373734-6636-4337-a432-336636316261
DTSTAMP:20260424T125449Z
DESCRIPTION:Microsoft\, Google\, Zoom und Co. – die Mehrzahl an Software\, 
 die in deutschen Unternehmen zum Einsatz kommt\, stammt aus den USA. Bei d
 er Nutzung dieser Anwendungen bleibt häufig unklar\, inwiefern Daten an di
 e US-Anbieter zurückfließen – und dass\, obwohl Gerichte der Datenweiterga
 be in die USA enge Grenzen gesetzt haben.
DTSTART;VALUE=DATE:20211007
DTEND;VALUE=DATE:20211008
LOCATION:Online
SUMMARY:US-Software und Datenschutz – wie passt das zusammen?
END:VEVENT
END:VCALENDAR
