BEGIN:VCALENDAR
VERSION:2.0
PRODID:-//88.99.161.204//NONSGML kigkonsult.se iCalcreator 2.41.92//
CALSCALE:GREGORIAN
METHOD:PUBLISH
UID:66313130-3363-4530-a239-393261373031
X-WR-TIMEZONE:Europe/Berlin
BEGIN:VEVENT
UID:31306666-3034-4236-b962-343631396363
DTSTAMP:20260420T043857Z
DESCRIPTION:Unsere Fachgruppe initiiert einen Expertentalk rund um IT-Siche
 rheit und Cyberkriminalität in Zeiten des Angriffskrieges auf die Ukraine.
  Wie groß ist die Bedrohung und wie können sich norddeutsche Unternehmen r
 ichtig schützen?\n \n 
DTSTART:20220505T170000
DTEND:20220505T190000
LOCATION:Online
SUMMARY:Fishbowl – Der DiWiSH Expertentalk „IT-Sicherheit“
END:VEVENT
END:VCALENDAR
