BEGIN:VCALENDAR
VERSION:2.0
PRODID:-//88.99.161.204//NONSGML kigkonsult.se iCalcreator 2.41.92//
CALSCALE:GREGORIAN
METHOD:PUBLISH
UID:63393634-6537-4532-b037-376237653133
X-WR-TIMEZONE:Europe/Berlin
BEGIN:VEVENT
UID:36323465-3362-4638-b537-383030613362
DTSTAMP:20260420T022140Z
DESCRIPTION:Im Zuge der Digitalisierung kommen stetig Veränderungen auf jed
 en Einzelnen von uns zu\, die u.a. Anpassungsreaktionen wie Stress bei uns
  auslösen können.
DTSTART:20220629T120000
DTEND:20220629T130000
LOCATION:Online
SUMMARY:Hamburg@work: Resilienz to go | Grundlagen-Impuls Teil 5
END:VEVENT
END:VCALENDAR
