BEGIN:VCALENDAR
VERSION:2.0
PRODID:-//88.99.161.204//NONSGML kigkonsult.se iCalcreator 2.41.92//
CALSCALE:GREGORIAN
METHOD:PUBLISH
UID:66633164-3439-4735-a637-323336373466
X-WR-TIMEZONE:Europe/Berlin
BEGIN:VEVENT
UID:63323861-6331-4434-b038-306137366432
DTSTAMP:20260419T152833Z
DESCRIPTION:Die Veranstaltung richtet sich an alle\, denen eine enkeltaugli
 che Zukunft unserer Welt am Herzen liegt! Unabhängig davon\, ob Du selbst 
 bereits engagiert und aktiv zum Thema bist oder Du Dich erstmal unverbindl
 ich informieren möchtest.
DTSTART:20220824T174500
DTEND:20220824T203000
LOCATION:Lille Brauerei\, Eichkamp 9c\, 24116 Kiel
SUMMARY:Gemeinwohl-Ökonomie Podiumsdiskussion @ Lille
END:VEVENT
END:VCALENDAR
