BEGIN:VCALENDAR
VERSION:2.0
PRODID:-//88.99.161.204//NONSGML kigkonsult.se iCalcreator 2.41.92//
CALSCALE:GREGORIAN
METHOD:PUBLISH
UID:34626233-3435-4665-a362-356532303336
X-WR-TIMEZONE:Europe/Berlin
BEGIN:VEVENT
UID:35343738-3061-4261-b831-343137316461
DTSTAMP:20260421T014034Z
DESCRIPTION:Viele Unternehmen stehen aktuell vor komplexen Veränderungsproz
 essen. Die Energiekosten explodieren\, Kunden stellen neue Anforderungen\,
  die bisherigen Lieferketten unterliegen steigenden Risiken\, die digitale
  Transformation in den Unternehmen ist noch nicht so weit wie wünschenswer
 t. Um dem damit verbundenen Anpassungsbedarf zu begegnen sind die Stärkung
  der Innovationsfähigkeit und des Innovationsmanagements wesentliche Vorau
 ssetzungen für den Unternehmenserfolg und -bestand. Die Präsenzveranstaltu
 ng „Innovation\, aber konkret' in Lübeck möchte Ihnen genau hierzu Impulse
  und Lösungsansätze geben!
DTSTART:20220830T090000
DTEND:20220830T143000
LOCATION:Media Docks Lübeck
SUMMARY:Innovation\, aber konkret!
END:VEVENT
END:VCALENDAR
