BEGIN:VCALENDAR
VERSION:2.0
PRODID:-//88.99.161.204//NONSGML kigkonsult.se iCalcreator 2.41.92//
CALSCALE:GREGORIAN
METHOD:PUBLISH
UID:39613036-6331-4036-a464-396334386663
X-WR-TIMEZONE:Europe/Berlin
BEGIN:VEVENT
UID:31393830-6237-4833-b731-396333333963
DTSTAMP:20260421T053909Z
DESCRIPTION:Wissenstransfer aus der Praxis\, Kontakte zu möglichen Geschäft
 spartnern\, ein innovatives Eventformat\, eine besondere Atmosphäre\, Insp
 iration und neue Ideen – all dies bietet Dir das digicamp Niebüll. Die Tei
 lnahme ist kostenfrei.
DTSTART:20220827T090000
DTEND:20220827T160000
LOCATION:Nordfriesisches Innovations-Center GmbH\, Schmiedestr. 11\, 25899 
 Niebüll
SUMMARY:digicamp Niebüll
END:VEVENT
END:VCALENDAR
