BEGIN:VCALENDAR
VERSION:2.0
PRODID:-//88.99.161.204//NONSGML kigkonsult.se iCalcreator 2.41.92//
CALSCALE:GREGORIAN
METHOD:PUBLISH
UID:66323739-3434-4233-b536-316164356539
X-WR-TIMEZONE:Europe/Berlin
BEGIN:VEVENT
UID:38376332-3736-4935-b138-363733323639
DTSTAMP:20260421T083810Z
DESCRIPTION:Am 17.02. findet eine DiWiSH-Veranstaltung zum Thema ChatGPT mi
 t spannenden Vorträgen und Impulsen statt.
DTSTART:20230217T083000
DTEND:20230217T131500
LOCATION:Wissenschaftszentrum Kiel
SUMMARY:Megatrend ChatGPT - Aufstieg oder Untergang?
END:VEVENT
END:VCALENDAR
