BEGIN:VCALENDAR
VERSION:2.0
PRODID:-//88.99.161.204//NONSGML kigkonsult.se iCalcreator 2.41.92//
CALSCALE:GREGORIAN
METHOD:PUBLISH
UID:32663163-3934-4666-a235-313432396263
X-WR-TIMEZONE:Europe/Berlin
BEGIN:VEVENT
UID:64313036-6261-4530-b437-346537353132
DTSTAMP:20260421T141133Z
DESCRIPTION:LinkedIn hat sich zu einem der wichtigsten Netzwerke für Untern
 ehmen entwickelt\, um sich zu präsentieren\, Wissen zu teilen\, Talente zu
  finden und Kunden zu gewinnen. Doch wie können Unternehmen die Plattform 
 effektiv nutzen?
DTSTART:20240423T173000
DTEND:20240423T213000
LOCATION:Gut Salzig Beachclub & Restaurant\, Stein
SUMMARY:Wirtschaft im Gespräch: LinkedIn Marketing
END:VEVENT
END:VCALENDAR
