BEGIN:VCALENDAR
VERSION:2.0
PRODID:-//88.99.161.204//NONSGML kigkonsult.se iCalcreator 2.41.92//
CALSCALE:GREGORIAN
METHOD:PUBLISH
UID:61333064-3338-4366-b833-336534316539
X-WR-TIMEZONE:Europe/Berlin
BEGIN:VEVENT
UID:61633666-3764-4564-b231-353631643430
DTSTAMP:20260420T143735Z
DESCRIPTION:Liebe Fans des Beachcamp SPO\,\nes geht wieder los. Auch 2024 g
 ibt es wieder das Beachcamp\, in diesem Jahr im ev. Gemeindehaus in St. Pe
 ter-Ording.\nFolgendes erwartet Sie an beiden Tagen:
DTSTART:20240913T090000
DTEND:20240914T160000
LOCATION:Ev. Gemeindehaus St. Peter-Ording
SUMMARY:Beachcamp SPO 2024
END:VEVENT
END:VCALENDAR
