BEGIN:VCALENDAR
VERSION:2.0
PRODID:-//88.99.161.204//NONSGML kigkonsult.se iCalcreator 2.41.92//
CALSCALE:GREGORIAN
METHOD:PUBLISH
UID:37316337-3431-4231-a134-636237633239
X-WR-TIMEZONE:Europe/Berlin
BEGIN:VEVENT
UID:38643762-3461-4033-b165-356533356532
DTSTAMP:20260421T112616Z
DESCRIPTION:Die Programmiersprache Java zählt zu den meist genutzten und po
 pulärsten Programmiersprachen weltweit. Bis heute haben sich mehr als 6\,5
  Millionen Software-Entwickler für die Java-Technologie entschieden. Nordi
 c Coding ist die neue Fachgruppe und Plattform von Java-Entwicklern für Ja
 va-Entwickler im Norden. Themen des ersten großen Nordic Coding Events wer
 den der geschickte Umgang mit der objektorientierten Programmiersprache un
 d typische Herausforderungen beim Oberflächendesign sein.\n\nOrt: Kiel\nTe
 ilnahme: kostenfrei\, Anmeldung erforderlich
DTSTART:20101202T173000
DTEND:20101202T193000
SUMMARY:Auftaktveranstaltung Nordic Coding
END:VEVENT
END:VCALENDAR
