BEGIN:VCALENDAR
VERSION:2.0
PRODID:-//88.99.161.204//NONSGML kigkonsult.se iCalcreator 2.41.92//
CALSCALE:GREGORIAN
METHOD:PUBLISH
UID:62626530-3838-4034-b930-336230356364
X-WR-TIMEZONE:Europe/Berlin
BEGIN:VEVENT
UID:38353363-3238-4562-b633-663562636334
DTSTAMP:20260421T230827Z
DESCRIPTION:Sind Sie bereit\, sich den Cyber-Bedrohungen zu stellen? Erlebe
 n Sie die epische IT-Sicherheits-Schlacht live in Hamburg und erfahren\, w
 ie Sie den digitalen Kampf um Ihre Daten gewinnen.
DTSTART:20250326T093000
DTEND:20250326T143000
LOCATION:Hamburg
SUMMARY:lmbit IT Security Tag 2025 Game of Threats
END:VEVENT
END:VCALENDAR
