BEGIN:VCALENDAR
VERSION:2.0
PRODID:-//88.99.161.204//NONSGML kigkonsult.se iCalcreator 2.41.92//
CALSCALE:GREGORIAN
METHOD:PUBLISH
UID:39303564-3130-4266-a131-393362636464
X-WR-TIMEZONE:Europe/Berlin
BEGIN:VEVENT
UID:36626531-6436-4637-a464-376361623338
DTSTAMP:20260420T132840Z
DESCRIPTION:Die Fachgruppe Nordic Coding ist der Treffpunkt für Entwickler:
 innen\, Architekt:innen und Tech-Enthusiast:innen in Schleswig-Holstein\, 
 die moderne Softwareentwicklung leben und gestalten wollen. Wir stehen für
  einen offenen\, praxisnahen Austausch rund um aktuelle Technologien\, Met
 hoden und Werkzeuge – von Cloud-Native-Anwendungen über moderne Webframewo
 rks bis hin zu KI-gestützten Prozessen und DevOps.
DTSTART:20260429T153000
DTEND:20260429T190000
LOCATION:Wissenschaftszentrum Kiel
SUMMARY:Fachgruppe Nordic Coding: AI Agents at Scale & LLMs im Griff
END:VEVENT
END:VCALENDAR
