BEGIN:VCALENDAR
VERSION:2.0
PRODID:-//88.99.161.204//NONSGML kigkonsult.se iCalcreator 2.41.92//
CALSCALE:GREGORIAN
METHOD:PUBLISH
UID:30626231-6232-4466-a530-353661646438
X-WR-TIMEZONE:Europe/Berlin
BEGIN:VEVENT
UID:66333262-3739-4136-b563-353336616661
DTSTAMP:20260423T003308Z
DESCRIPTION:Es geht darum die Ebenen einer Digitalen Souveränität mal wertf
 rei zu erfassen\, statt zwanghaft „Ihr müsst jetzt alle Linux\, Nextcloud 
 und Libreoffice machen!“ zu fordern. Was ist den Souveränität wirklich und
  warum brauche ich die konkret?
DTSTART:20260506T120000
DTEND:20260506T150000
LOCATION:KITZ - Kieler Innovations- und Technologiezentrum
SUMMARY:Fachgruppe Open Source: Zwischen Daten\, KI und Arbeitsplatz: Digit
 ale Souveränität im Unternehmen
END:VEVENT
END:VCALENDAR
